BEGIN:VCALENDAR
VERSION:2.0
PRODID:-//ExpressionEngine Easy iCalendar plugin//NONSGML v1.1.1//EN
BEGIN:VEVENT
UID:event
LOCATION:The Schapiro Center\, Davis Auditorium
DTSTAMP:20210221T33400Z
DTSTART;TZID=America/New_York:20111109T181500
DTEND;TZID=America/New_York:
SUMMARY:The Global Minotaur: The Crash of 2008 and the Euro-Zone Cri
 sis in Historical Perspective
DESCRIPTION:This talk\, featuring prominent economist Yanis Varoufakis an
 d editor Justin Fox\, is the inaugural talk of the Heyman Cen
 ter's "Money Series" 
END:VEVENT
END:VCALENDAR