BEGIN:VCALENDAR
VERSION:2.0
PRODID:-//ExpressionEngine Easy iCalendar plugin//NONSGML v1.1.1//EN
BEGIN:VEVENT
UID:event
LOCATION:The Heyman Center\, Second Floor Common Room
DTSTAMP:20210221T33600Z
DTSTART;TZID=America/New_York:20181109T121500
DTEND;TZID=America/New_York:
SUMMARY:Celebrating Recent Work by Nicole B. Wallack
DESCRIPTION:New Books in the Arts & Sciences: Celebrating Recent Work b
 y Nicole B. Wallack
END:VEVENT
END:VCALENDAR