BEGIN:VCALENDAR
VERSION:2.0
PRODID:-//ExpressionEngine Easy iCalendar plugin//NONSGML v1.1.1//EN
BEGIN:VEVENT
UID:event
LOCATION:Maison Francaise
DTSTAMP:20210221T33500Z
DTSTART;TZID=America/New_York:20181008T190000
DTEND;TZID=America/New_York:20181012T000000
SUMMARY:LES HISTORIENNES
DESCRIPTION:LES HISTORIENNES:  a series of special events with Jeanne B
 alibar and three French historians who inspired Jeanne Balib
 ar’s performance of “Les Historiennes” at FIAF on Octo
 ber 13
END:VEVENT
END:VCALENDAR