BEGIN:VCALENDAR
VERSION:2.0
PRODID:-//ExpressionEngine Easy iCalendar plugin//NONSGML v1.1.1//EN
BEGIN:VEVENT
UID:event
LOCATION:Italian Academy
DTSTAMP:20210221T33100Z
DTSTART;TZID=America/New_York:20181010T90000
DTEND;TZID=America/New_York:20181102T000000
SUMMARY:Exhibition | Ground Truth: Testimonies of Destruction and Re
 turn in Al-Araqib
DESCRIPTION:The Center for Palestine Studies\, in partnership with the NG
 O Zochrot and the Italian Academy\, will host a three-week-lo
 ng exhibition on the theme of Bedouin ownership of Negev lan
 ds and the ongoing Israeli state campaign to uproot the Pale
 stinian Bedouin from the northern threshold of the desert.
END:VEVENT
END:VCALENDAR