BEGIN:VCALENDAR
VERSION:2.0
PRODID:-//ExpressionEngine Easy iCalendar plugin//NONSGML v1.1.1//EN
BEGIN:VEVENT
UID:event
LOCATION:The Heyman Center\, Second Floor Common Room
DTSTAMP:20210221T33200Z
DTSTART;TZID=America/New_York:20181203T181500
DTEND;TZID=America/New_York:
SUMMARY:Staging War: Theatrical Ventures\, Quandaries\, and Prospects
DESCRIPTION:This roundtable event brings together a panel of playwrights
  whose innovative work has stimulated the expanding corpus o
 f “war plays” -- Judith Thompson (Palace of the End)\, Ge
 orge Brant (Grounded)\, and Maurice Decaul (Dijla Wal Furat\, 
 Between the Tigris and the Euphrates). They will reflect on 
 the enduring power of live dramatic performance for thinking
  through contemporary culture's relationship to war\, and con
 sider what new forms and strategies are needed to face war's
  new realities.
END:VEVENT
END:VCALENDAR