BEGIN:VCALENDAR
VERSION:2.0
PRODID:-//ExpressionEngine Easy iCalendar plugin//NONSGML v1.1.1//EN
BEGIN:VEVENT
UID:event
LOCATION:The Heyman Center\, Second Floor Common Room
DTSTAMP:20210221T33400Z
DTSTART;TZID=America/New_York:20111110T181500
DTEND;TZID=America/New_York:
SUMMARY:Criticism in Action: The Godfather Movies
DESCRIPTION:Music critic and journalist Greil Marcus returns to the Heym
 an Center. He will be joined by fellow critic John Rockwell 
 to discuss "Criticism in Action: The Godfather Movies."
END:VEVENT
END:VCALENDAR