BEGIN:VCALENDAR
VERSION:2.0
PRODID:-//ExpressionEngine Easy iCalendar plugin//NONSGML v1.1.1//EN
BEGIN:VEVENT
UID:event
LOCATION:\, Furnald Lawn
DTSTAMP:20210221T33100Z
DTSTART;TZID=America/New_York:20180927T170000
DTEND;TZID=America/New_York:
SUMMARY:Beyond “I Agree”: A Democratic Technology\, Without Big T
 ech
DESCRIPTION:The techlash marks the end of complacency over Big Tech: in 
 a single instant\, states have gone from being completely bla
 se about the risks of a monopolized digital world run by hig
 h-handed CEOs who answer only to their shareholders\, to bein
 g certain that the answer involves limiting the excesses of 
 the digital monopolists…by enshrining them as permanent mo
 narchs of the internet and then extracting some regulatory p
 romises from them.
END:VEVENT
END:VCALENDAR