BEGIN:VCALENDAR
VERSION:2.0
PRODID:-//ExpressionEngine Easy iCalendar plugin//NONSGML v1.1.1//EN
BEGIN:VEVENT
UID:event
LOCATION:The Heyman Center\, Second Floor Common Room
DTSTAMP:20210221T33200Z
DTSTART;TZID=America/New_York:20180925T121500
DTEND;TZID=America/New_York:
SUMMARY:A Conversation with Cory Doctorow
DESCRIPTION:Cory Doctorow will join Dennis Tenen\, Associate Professor of
  English and Comparative Literature\, in a conversation about
  science fiction\, the changing material conditions of contem
 porary authorship\, copyright\, and surveillance.
END:VEVENT
END:VCALENDAR