BEGIN:VCALENDAR
VERSION:2.0
PRODID:-//ExpressionEngine Easy iCalendar plugin//NONSGML v1.1.1//EN
BEGIN:VEVENT
UID:event
LOCATION:Butler Library\, Butler Library 523
DTSTAMP:20210221T32600Z
DTSTART;TZID=America/New_York:20180926T180000
DTEND;TZID=America/New_York:
SUMMARY:Huxleyed into the Full Orwell:How Digital Copyright Abuse Ha
 s Abetted a Culture of Mass Surveillance
DESCRIPTION:Journalist and science fiction writer Cory Doctorow will tal
 k about the millennia-old social compact of the book\, and th
 e arbitrary renegotiation of that contract in the age of ebo
 oks\, where prior restraint\, restrictions on lending\, donatio
 n and gifting\, and invasive\, surveillant technologies have b
 ecome the norm. He will investigate how technology and licen
 se agreements have gone on to colonize our relationships wit
 h other devices and systems\, from voting machines to tractor
 s\, insulin pumps to thermostats.
END:VEVENT
END:VCALENDAR