BEGIN:VCALENDAR
VERSION:2.0
PRODID:-//ExpressionEngine Easy iCalendar plugin//NONSGML v1.1.1//EN
BEGIN:VEVENT
UID:event
LOCATION:Jerome Greene Hall (Law School)\, Jerome Greene Annex
DTSTAMP:20210221T33700Z
DTSTART;TZID=America/New_York:20181024T181500
DTEND;TZID=America/New_York:
SUMMARY:3/13 | INDIVISIBLE: POLITICAL REVOLUTION
DESCRIPTION:This year’s 13/13 seminar series will take this problem as
  its task: to buck centuries of contemplative complacency an
 d return praxis to its proper place in the order of things
 . In doing so\, the seminar will strive to address the most c
 ritical question today: What is to be done? And what exactly
  is critical praxis today?
END:VEVENT
END:VCALENDAR