BEGIN:VCALENDAR
VERSION:2.0
PRODID:-//ExpressionEngine Easy iCalendar plugin//NONSGML v1.1.1//EN
BEGIN:VEVENT
UID:event
LOCATION:International Affairs Building\, Room 1219
DTSTAMP:20210221T33500Z
DTSTART;TZID=America/New_York:20111110T170000
DTEND;TZID=America/New_York:
SUMMARY:The Blinken European Institute Presents: “On the Political
  and Legal DNA of the Union”
DESCRIPTION:This talk is part of the year-long series on "Bringing Back 
 Political Economy: Europe\, Ground Zero" and will feature Jos
 eph Weiler\, Joseph Straus Professor of Law\, New York Univers
 ity\, and Turkuler Isiksel\, Assistant Professor\, Columbia Uni
 versity.
END:VEVENT
END:VCALENDAR