BEGIN:VCALENDAR
VERSION:2.0
PRODID:-//ExpressionEngine Easy iCalendar plugin//NONSGML v1.1.1//EN
BEGIN:VEVENT
UID:event
LOCATION:Rosenthal Pavilion\, New York University
DTSTAMP:20210221T33200Z
DTSTART;TZID=America/New_York:20181210T190000
DTEND;TZID=America/New_York:
SUMMARY:A Tribute to Pete Hamill
DESCRIPTION:Reflecting on the auspicious literary career of Pete Hamill 
 we invite you to pay tribute to a dear friend of Glucksman I
 reland House NYU who has framed outlooks on America and New 
 York for over five decades.
END:VEVENT
END:VCALENDAR