BEGIN:VCALENDAR
VERSION:2.0
PRODID:-//ExpressionEngine Easy iCalendar plugin//NONSGML v1.1.1//EN
BEGIN:VEVENT
UID:event
LOCATION:The Heyman Center\, Second Floor Common Room
DTSTAMP:20210221T33500Z
DTSTART;TZID=America/New_York:20111114T180000
DTEND;TZID=America/New_York:
SUMMARY:The Renaissance Theory of Rhetorical Invention
DESCRIPTION:Quentin Skinner returns to the Heyman Center to deliver a se
 t of three lectures titled "Shakespeare and Rhetorical Inven
 tion."
END:VEVENT
END:VCALENDAR