BEGIN:VCALENDAR
VERSION:2.0
PRODID:-//ExpressionEngine Easy iCalendar plugin//NONSGML v1.1.1//EN
BEGIN:VEVENT
UID:event
LOCATION:The Heyman Center\, Second Floor Common Room
DTSTAMP:20210221T33500Z
DTSTART;TZID=America/New_York:20181127T173000
DTEND;TZID=America/New_York:
SUMMARY:Palaces for the People
DESCRIPTION:In Palaces for the People\, Eric Klinenberg suggests a way f
 orward. He believes that the future of democratic societies 
 rests not simply on shared values but on shared spaces: the 
 libraries\, childcare centers\, bookstores\, churches\, synagogu
 es\, and parks where crucial\, sometimes life-saving connectio
 ns\, are formed. These are places where people gather and lin
 ger\, making friends across group lines and strengthening the
  entire community. Klinenberg calls this the “social infra
 structure”: When it is strong\, neighborhoods flourish\; whe
 n it is neglected\, as it has been in recent years\, families 
 and individuals must fend for themselves.
END:VEVENT
END:VCALENDAR