BEGIN:VCALENDAR
VERSION:2.0
PRODID:-//ExpressionEngine Easy iCalendar plugin//NONSGML v1.1.1//EN
BEGIN:VEVENT
UID:event
LOCATION:Jerome Greene Hall (Law School)\, Case Lounge\, 7th floor
DTSTAMP:20210221T33300Z
DTSTART;TZID=America/New_York:20180915T133000
DTEND;TZID=America/New_York:
SUMMARY:Educating for Justice
DESCRIPTION:Learn about mass incarceration and the challenges and reward
 s of working with incarcerated populations.  All volunteers
  working with vulnerable populations\, especially incarcerate
 d people\, are encouraged to attend.  People considering com
 mitting to this important work are also invited.
END:VEVENT
END:VCALENDAR