BEGIN:VCALENDAR
VERSION:2.0
PRODID:-//ExpressionEngine Easy iCalendar plugin//NONSGML v1.1.1//EN
BEGIN:VEVENT
UID:event
LOCATION:The Schapiro Center\, Davis Auditorium
DTSTAMP:20210221T33900Z
DTSTART;TZID=America/New_York:20181019T183000
DTEND;TZID=America/New_York:
SUMMARY:Ambedkar Now
DESCRIPTION:B. R. Ambedkar is one of Columbia University’s most illust
 rious alumni\, and a political thinker and constitutional law
 yer whose thought and activism has shaped the world’s la
 rgest democracy. \n\nIn 2018\, the Inaugural Ambedkar Lectures
  have been planned as a series of two public events to rec
 ognize Ambedkar’s continuing relevance for social justice 
 activism and democratic thought in global frame
END:VEVENT
END:VCALENDAR