BEGIN:VCALENDAR
VERSION:2.0
PRODID:-//ExpressionEngine Easy iCalendar plugin//NONSGML v1.1.1//EN
BEGIN:VEVENT
UID:event
LOCATION:Butler Library\, Studio@Butler
DTSTAMP:20210221T33700Z
DTSTART;TZID=America/New_York:20181020T110000
DTEND;TZID=America/New_York:
SUMMARY:Wikipediathon: Rewriting Dalit History
DESCRIPTION:B. R. Ambedkar is one of Columbia University’s most illust
 rious alumni\, and a political thinker and constitutional law
 yer whose thought and activism has shaped the world’s la
 rgest democracy. \n\nIn 2018\, the Inaugural Ambedkar Lectures
  have been planned as a series of two public events to rec
 ognize Ambedkar’s continuing relevance for social justice 
 activism and democratic thought in global frame
END:VEVENT
END:VCALENDAR