BEGIN:VCALENDAR
VERSION:2.0
PRODID:-//ExpressionEngine Easy iCalendar plugin//NONSGML v1.1.1//EN
BEGIN:VEVENT
UID:event
LOCATION:Barnard Hall\, James Room
DTSTAMP:20210221T32900Z
DTSTART;TZID=America/New_York:20181018T183000
DTEND;TZID=America/New_York:
SUMMARY:Global Ambedkar
DESCRIPTION:B. R. Ambedkar is one of Columbia University’s most illust
 rious alumni\, and a political thinker and constitutional law
 yer whose thought and activism has shaped the world’s larg
 est democracy. \n\nIn 2018\, the Inaugural Ambedkar Lectures h
 ave been planned as a series of two public events to recog
 nize Ambedkar’s continuing relevance for social justice ac
 tivism and democratic thought in global frame
END:VEVENT
END:VCALENDAR