BEGIN:VCALENDAR
VERSION:2.0
PRODID:-//ExpressionEngine Easy iCalendar plugin//NONSGML v1.1.1//EN
BEGIN:VEVENT
UID:event
LOCATION:Avery Hall\, Room 114
DTSTAMP:20210221T33500Z
DTSTART;TZID=America/New_York:20181019T130000
DTEND;TZID=America/New_York:
SUMMARY:It’s Simple: Histories of Architecture and/for the Environ
 ment
DESCRIPTION:As a part of the CCA’s research project and in conjunction
  with the Buell Center’s “Power: Infrastructure in Ameri
 ca” research initiative\, this afternoon event will offer n
 ew directions and agendas for environmental histories of arc
 hitecture that combine a planetary perspective with an asser
 tion that national centers of power\, particularly those in t
 he United States\, continue to hold outsize influence and res
 ponsibility. 
END:VEVENT
END:VCALENDAR