BEGIN:VCALENDAR
VERSION:2.0
PRODID:-//ExpressionEngine Easy iCalendar plugin//NONSGML v1.1.1//EN
BEGIN:VEVENT
UID:event
LOCATION:The Heyman Center\, Second Floor Common Room
DTSTAMP:20210221T33000Z
DTSTART;TZID=America/New_York:20181004T181500
DTEND;TZID=America/New_York:20181005T000000
SUMMARY:Global Language Mellon Sawyer Seminar: The Tower of Babel: H
 uman Rights and the Paradox of Language
DESCRIPTION:The Andrew W. Mellon Foundation Sawyer Seminar with Moria P
 az.
END:VEVENT
END:VCALENDAR