BEGIN:VCALENDAR
VERSION:2.0
PRODID:-//ExpressionEngine Easy iCalendar plugin//NONSGML v1.1.1//EN
BEGIN:VEVENT
UID:event
LOCATION:Barnard Hall\, Event Oval\, The Diana Center
DTSTAMP:20210221T33200Z
DTSTART;TZID=America/New_York:20181009T180000
DTEND;TZID=America/New_York:
SUMMARY:Critical Caribbean Feminisms: Erna Brodber and Nicole Dennis
 -Benn
DESCRIPTION:BCRW and Small Axe: A Journal of Caribbean Criticism hosts a
  reading and conversation between authors Erna Brodber (Noth
 ingâ€™s MatÂ andÂ The Rainmakerâ€™s Mistake\, among others) Â
  and Nicole Dennis-Benn (Here Comes the Sun) in the newly ex
 panded series Critical Caribbean Feminisms. In this series\, 
 authors discuss issues related to Caribbean and its diaspora
 \, method\, feminism\, and gender in their work. The conversati
 on with be followed by a discussion moderated by Kaiama L. G
 lover.
END:VEVENT
END:VCALENDAR