BEGIN:VCALENDAR
VERSION:2.0
PRODID:-//ExpressionEngine Easy iCalendar plugin//NONSGML v1.1.1//EN
BEGIN:VEVENT
UID:event
LOCATION:CUNY Graduate Center
DTSTAMP:20210221T33800Z
DTSTART;TZID=America/New_York:20181108T190000
DTEND;TZID=America/New_York:
SUMMARY:Roxane Gay in Conversation with Katia D. Ulysse
DESCRIPTION:Roxane Gay\, award-winning author ofÂ Hunger: A Memoir of (My
 ) BodyÂ (2017)\,Â Difficult WomenÂ (2017)\, andÂ Bad FeministÂ
  (2014) and Katia D. Ulysse\, Haitian poet\, essayist and auth
 or ofÂ DriftingÂ (2014)\, among other works\, will join us for
  a reading and conversation in the Critical Caribbean Femini
 sms series. Following the reading\, Gay\, Ulysse\, and BCRW Ass
 ociate Director Tami Navarro will discuss various forms of w
 ritingâ€“including novels\, memoir\, and social media interven
 tionsâ€“and examine how these create space for conversations
  around and advocacy for social justice.
END:VEVENT
END:VCALENDAR