BEGIN:VCALENDAR
VERSION:2.0
PRODID:-//ExpressionEngine Easy iCalendar plugin//NONSGML v1.1.1//EN
BEGIN:VEVENT
UID:event
LOCATION:Lenfest Center for the Arts
DTSTAMP:20210221T33000Z
DTSTART;TZID=America/New_York:20180914T200000
DTEND;TZID=America/New_York:20180923T000000
SUMMARY:NY Indie Guy: Ira Deutchman and the Rise of Independent Film
DESCRIPTION:A retrospective of the career of Film Professor and Producin
 g Concentration Supervisor Ira Deutchman. Organized by Rob
  King and Jack Lechner\, Film\n\n 
END:VEVENT
END:VCALENDAR