BEGIN:VCALENDAR
VERSION:2.0
PRODID:-//ExpressionEngine Easy iCalendar plugin//NONSGML v1.1.1//EN
BEGIN:VEVENT
UID:event
LOCATION:The Heyman Center\, Second Floor Common Room
DTSTAMP:20210221T33600Z
DTSTART;TZID=America/New_York:20180921T180000
DTEND;TZID=America/New_York:
SUMMARY:Exile\, Statelessness\, and Migration: Playing Chess with Hist
 ory from Hannah Arendt to Isaiah Berlin
DESCRIPTION:Launch of Exile\, Statelessness\, and Migration: Playing Ches
 s with History from Hannah Arendt to Isaiah Berlin by Seyla
  Benhabib
END:VEVENT
END:VCALENDAR