BEGIN:VCALENDAR
VERSION:2.0
PRODID:-//ExpressionEngine Easy iCalendar plugin//NONSGML v1.1.1//EN
BEGIN:VEVENT
UID:event
LOCATION:The Heyman Center\, Second Floor Common Room
DTSTAMP:20210221T33700Z
DTSTART;TZID=America/New_York:20180925T181500
DTEND;TZID=America/New_York:
SUMMARY:Agora Europe Series: Socrates of Prague Film Screening
DESCRIPTION:Why did a philosopher whose life was dedicated to reading\, w
 riting\, and teaching decide so late in his life to engage hi
 mself in the world?
END:VEVENT
END:VCALENDAR