BEGIN:VCALENDAR
VERSION:2.0
PRODID:-//ExpressionEngine Easy iCalendar plugin//NONSGML v1.1.1//EN
BEGIN:VEVENT
UID:event
LOCATION:The Heyman Center\, Second Floor Common Room
DTSTAMP:20210221T33700Z
DTSTART;TZID=America/New_York:20181115T143000
DTEND;TZID=America/New_York:
SUMMARY:“Keywords for Today” and “Political Concepts”: A Dia
 logue on the Terms We Use
DESCRIPTION:Keywords for Today: A 21st Century Vocabulary\, due out this 
 fall\, is the result of years of work by a collective of scho
 lars (https://keywords.pitt.edu/) from the UK\, the US\, and e
 lsewhere. Working on the basis of Raymond Williams' 1976 cla
 ssic Keywords: A Vocabulary of Culture and Society\, the new 
 volume extends and updates 40 of the original entries and ad
 ds 85 more short essays on the twists and turns\, emphases an
 d omissions\, contests and usages: love along with network\, t
 ruth along with youth\, democracy along with violence.  This
  afternoon event features the volume's two head editors\, Col
 in MacCabe and Holly Yanacek\, as well as two members of the 
 editorial collective\, Jonathan Arac and Arjuna Parakrama.
END:VEVENT
END:VCALENDAR