BEGIN:VCALENDAR
VERSION:2.0
PRODID:-//ExpressionEngine Easy iCalendar plugin//NONSGML v1.1.1//EN
BEGIN:VEVENT
UID:event
LOCATION:The Heyman Center\, Second Floor Common Room
DTSTAMP:20210221T33100Z
DTSTART;TZID=America/New_York:20180927T160000
DTEND;TZID=America/New_York:
SUMMARY:Fire & Flood: Settler Colonialism & Pessimistic Indigenous F
 uturisms
DESCRIPTION:Caught within the both/and of late colonial collapse and the
  fantasies of revolutionary upheaval\, American futurities of
 ten reproduce themselves through nineteenth-century signs o
 f Indianness within the ongoing context of colonial dominati
 on. This talk close reads HBO's Westworld alongside work b
 y Indigenous women writers including LeAnne Howe and Rebecca
  Roanhorse to consider how antiblackness and indigeneity f
 unction within the logics of settler colonialism and how I
 ndigenous futurisms and their pessimisms anticipate ruin a
 s radical resistance.
END:VEVENT
END:VCALENDAR