BEGIN:VCALENDAR
VERSION:2.0
PRODID:-//ExpressionEngine Easy iCalendar plugin//NONSGML v1.1.1//EN
BEGIN:VEVENT
UID:event
LOCATION:Gavin Brown’s Enterprise
DTSTAMP:20210221T33300Z
DTSTART;TZID=America/New_York:20181006T120000
DTEND;TZID=America/New_York:
SUMMARY:What Does Justice Look Like?: A Celebration of the Arts and 
 Social Justice
DESCRIPTION:Break out of your comfort zone and stretch your imagination 
 to envision new ways of thinking about justice.
END:VEVENT
END:VCALENDAR