BEGIN:VCALENDAR
VERSION:2.0
PRODID:-//ExpressionEngine Easy iCalendar plugin//NONSGML v1.1.1//EN
BEGIN:VEVENT
UID:event
LOCATION:The Heyman Center\, Second Floor Common Room
DTSTAMP:20210221T33800Z
DTSTART;TZID=America/New_York:20181206T180000
DTEND;TZID=America/New_York:
SUMMARY:An Investigative Cinema: Politics and Modernization in Itali
 an\, French\, and American Film
DESCRIPTION:On this occasion\, Fabrizio Cilento (Messiah College) will pr
 esent his most recent book\, published by Palgrave Macmillan 
 in Fall 2018 and titled An Investigative Cinema: Politics
  and Modernization in Italian\, French\, and American Film. Af
 ter Cilento’s presentation\, Elizabeth Leake (Columbia\, Ita
 lian)\, Giancarlo Lombardi (CUNY\, Comparative Lit.)\, and Rich
 ard Peña (Columbia\, Film and Media) will act as respondents
 . A wine and cheese reception will close the event.
END:VEVENT
END:VCALENDAR