BEGIN:VCALENDAR
VERSION:2.0
PRODID:-//ExpressionEngine Easy iCalendar plugin//NONSGML v1.1.1//EN
BEGIN:VEVENT
UID:event
LOCATION:Maison Francaise
DTSTAMP:20210221T33100Z
DTSTART;TZID=America/New_York:20181107T183000
DTEND;TZID=America/New_York:
SUMMARY:Steps to Liberty (Les Marches de la liberté)
DESCRIPTION:Opening night of the film series "Blackness in French and Fr
 ancophone Film" organized by the Columbia Maison Française 
 and co-sponsored by the School of the Arts.
END:VEVENT
END:VCALENDAR