BEGIN:VCALENDAR
VERSION:2.0
PRODID:-//ExpressionEngine Easy iCalendar plugin//NONSGML v1.1.1//EN
BEGIN:VEVENT
UID:event
LOCATION:The Heyman Center\, Second Floor Common Room
DTSTAMP:20210221T33500Z
DTSTART;TZID=America/New_York:20111117T181500
DTEND;TZID=America/New_York:
SUMMARY:The Diversity of Conscience
DESCRIPTION:Preeminent intellectuals\, J.B. Schneewind\, Christopher Ricks
 \, Richard Sorabji\, and Paul Strohm will speak on "The Divers
 ity of Conscience."
END:VEVENT
END:VCALENDAR