BEGIN:VCALENDAR
VERSION:2.0
PRODID:-//ExpressionEngine Easy iCalendar plugin//NONSGML v1.1.1//EN
BEGIN:VEVENT
UID:event
LOCATION:Maison Francaise
DTSTAMP:20210221T33000Z
DTSTART;TZID=America/New_York:20181108T183000
DTEND;TZID=America/New_York:
SUMMARY:Black Girl (La Noire de…)
DESCRIPTION:A film by Ousmane Sembène (1966\, 65 min.). Screening follow
 ed by a conversation with Souleymane Bachir Diagne\, Mamadou
  Diouf\, and Maboula Soumahoro. Ousmane Sembène was one of 
 the world's greatest and most groundbreaking filmmakers\, as 
 well as the most renowned African director of the twentieth 
 century—and yet his name still deserves to be better known
  in the rest of the world. He made his feature debut in 1966
  with the brilliant and stirring film Black Girl.
END:VEVENT
END:VCALENDAR