BEGIN:VCALENDAR
VERSION:2.0
PRODID:-//ExpressionEngine Easy iCalendar plugin//NONSGML v1.1.1//EN
BEGIN:VEVENT
UID:event
LOCATION:Maison Francaise
DTSTAMP:20210221T33700Z
DTSTART;TZID=America/New_York:20181109T163000
DTEND;TZID=America/New_York:
SUMMARY:Master Class by Director Amandine Gay: “A Child of Mine”
  on International Adoption
DESCRIPTION:MASTER CLASS BY AMANDINE GAY: "A CHILD OF MINE" ON INTERNAT
 IONAL ADOPTION \n\nAmandine Gay is the new name in  “Frenc
 h guerilla cinema” and Afro-feminist cinema. She wrote\, di
 rected\, produced and distributed Speak Upherself\, as her fi
 rst full length documentary\, and it was a necessary and urge
 nt film (Speak Up is being screened at the Lenfest Center o
 n November 10 at 2:00 P.M.). For this master class\, Amandine
  Gay will be talking about her work on her next film project
  on international adoption\, a phenomenon that is rarely spok
 en about by those who have experienced it personally\, as she
  has.
END:VEVENT
END:VCALENDAR