BEGIN:VCALENDAR
VERSION:2.0
PRODID:-//ExpressionEngine Easy iCalendar plugin//NONSGML v1.1.1//EN
BEGIN:VEVENT
UID:event
LOCATION:Screening Room\, Lenfest Center for the Arts
DTSTAMP:20210221T33400Z
DTSTART;TZID=America/New_York:20181110T140000
DTEND;TZID=America/New_York:
SUMMARY:Speak Up (Ouvrir la voix)
DESCRIPTION:A film by Amandine Gay (2017\, 122 min.). Screening followe
 d by a Q&A with Amandine Gay\, Farah Griffin\, and Maboula So
 umahoro\n\nWhat does it mean to be a black woman in francophon
 e Europe today? Rather than turning to “expert” sociolog
 ists\, Afro-feminist filmmaker Amandine Gay renews the art of
  the interview and lets her subjects speak for themselves
END:VEVENT
END:VCALENDAR