BEGIN:VCALENDAR
VERSION:2.0
PRODID:-//ExpressionEngine Easy iCalendar plugin//NONSGML v1.1.1//EN
BEGIN:VEVENT
UID:event
LOCATION:Lenfest Center for the Arts
DTSTAMP:20210221T33600Z
DTSTART;TZID=America/New_York:20181110T180000
DTEND;TZID=America/New_York:
SUMMARY:Towards Tenderness (Vers la tendresse)
DESCRIPTION:A film by Alice Diop (2016\, 38 min). Screening followed by Q
 &A with director Alice Diop\, Brent Edwards and Nora Philipp
 e. Alice Diop’s short film charts the ragged terrain of ma
 sculinity as it follows a band of young men pacing through a
  modern city\, acting in the way society and their friends ex
 pect “men” to act. Their interior monologues\, however\, 
 reveal other desires.Alice Diop deservedly took home the Ce
 sar Award (France's version of the Oscars) for best short f
 ilm for Vers la tendresse.
END:VEVENT
END:VCALENDAR