BEGIN:VCALENDAR
VERSION:2.0
PRODID:-//ExpressionEngine Easy iCalendar plugin//NONSGML v1.1.1//EN
BEGIN:VEVENT
UID:event
LOCATION:Maison Francaise
DTSTAMP:20210221T33800Z
DTSTART;TZID=America/New_York:20181112T183000
DTEND;TZID=America/New_York:
SUMMARY:Master Class with Director Alice Diop and Screening of On Ca
 ll (La Permanence)
DESCRIPTION: Master Class with Director Alice Diop and screening of 
 On Call (La Permanence). In this master class\, Alice Diop wi
 ll talk about the creation of her 6th film\, a poetic and po
 litical road trip via train. The intertwining portraits of p
 eople living in the towns and neighborhoods served by the RE
 R B\, from a nurse living in a segregated neighborhood to an 
 aficionado of fox hunting\, offer a moving portrait of French
  society in 2018\, and of the possibilities and impossibiliti
 es offered by the city of Paris itself. 
END:VEVENT
END:VCALENDAR