BEGIN:VCALENDAR
VERSION:2.0
PRODID:-//ExpressionEngine Easy iCalendar plugin//NONSGML v1.1.1//EN
BEGIN:VEVENT
UID:event
LOCATION:\, Lenfest Hall
DTSTAMP:20210221T32900Z
DTSTART;TZID=America/New_York:20181113T200000
DTEND;TZID=America/New_York:
SUMMARY:SHORT FILM SERIES: Like Dolls\, I’ll Rise and Le bleu blanc
  rouge de mes cheveux
DESCRIPTION:Like Dolls\, I'll Rise is a film by Nora Philippe that breat
 hes life into rag dolls made by anonymous Afro-American wome
 n in the 19th and early 20th centuries for their own childre
 n or for the white children they were looking after. In Le
  bleu blanc rouge de mes cheveux (2016\, 20 min.) Josza Anje
 mbe protrays a teenager from Cameroon who is passionate abou
 t the history of France\, the country where she was born and 
 which she loves deeply. In Les Indes Galantes (The Amorous
  Indies) (2017\, 6 min.)\, Clément Cogitore created and film
 ed a performance of "krumping" to Les Indes Galantes\, music
  that was composed for opera-ballet by Jean-Philippe Rameau 
 in 1735. Krumping is an urban dance form born in black neig
 hborhoods in Los Angeles after the 1995 riots. 
END:VEVENT
END:VCALENDAR