BEGIN:VCALENDAR
VERSION:2.0
PRODID:-//ExpressionEngine Easy iCalendar plugin//NONSGML v1.1.1//EN
BEGIN:VEVENT
UID:event
LOCATION:Maison Francaise
DTSTAMP:20210221T32800Z
DTSTART;TZID=America/New_York:20181114T183000
DTEND;TZID=America/New_York:
SUMMARY:The Country Upside Down (Le Pays à l’envers)
DESCRIPTION:In this personal journey through the memory of slavery\, A C
 ountry Upside Down follows Dampierre while she researches f
 or the first time the history of her name in Guadeloupe. Her
  father left the island to study in France\, and he surely co
 nveyed to his daughter a sense of heritage and pride – but
  it takes the help of a local genealogist\, thousands of page
 s of forgotten archives\, and a choreographer to understand t
 he intricate history of the Dampierre family. 
END:VEVENT
END:VCALENDAR