BEGIN:VCALENDAR
VERSION:2.0
PRODID:-//ExpressionEngine Easy iCalendar plugin//NONSGML v1.1.1//EN
BEGIN:VEVENT
UID:event
LOCATION:Maison Francaise
DTSTAMP:20210221T33900Z
DTSTART;TZID=America/New_York:20181116T183000
DTEND;TZID=America/New_York:
SUMMARY:Ouaga Girls
DESCRIPTION:A group of young women tweak machines and hammer away at a s
 chool for auto mechanics in Ouagadougou in this poetic story
  about life choices\, sisterhood and the endeavor to find one
 ’s own way.
END:VEVENT
END:VCALENDAR