BEGIN:VCALENDAR
VERSION:2.0
PRODID:-//ExpressionEngine Easy iCalendar plugin//NONSGML v1.1.1//EN
BEGIN:VEVENT
UID:event
LOCATION:Lenfest Center for the Arts
DTSTAMP:20210221T32800Z
DTSTART;TZID=America/New_York:20190228T193000
DTEND;TZID=America/New_York:20190302T000000
SUMMARY:Legacies of Leftism in Film and Media Theory: East Asia and 
 Beyond
DESCRIPTION:How have Leftist traditions inspired film and media theories
  across the world\, and what can we learn from these traditio
 ns today as we explore new methodologies in film and media s
 tudies and new political possibilities in the contemporary w
 orld? 
END:VEVENT
END:VCALENDAR