BEGIN:VCALENDAR
VERSION:2.0
PRODID:-//ExpressionEngine Easy iCalendar plugin//NONSGML v1.1.1//EN
BEGIN:VEVENT
UID:event
LOCATION:The Heyman Center\, Second Floor Common Room
DTSTAMP:20210221T33900Z
DTSTART;TZID=America/New_York:20111118T181500
DTEND;TZID=America/New_York:
SUMMARY:Up for Interpretation
DESCRIPTION:Quentin Skinner will conclude a four-day engagement at the H
 eyman Center when he is joined by frequent Heyman Center gue
 st Christopher Ricks to speak on "Up for Interpretation: or\,
  What Is this Thing That Hearsay Is Not?"
END:VEVENT
END:VCALENDAR