BEGIN:VCALENDAR
VERSION:2.0
PRODID:-//ExpressionEngine Easy iCalendar plugin//NONSGML v1.1.1//EN
BEGIN:VEVENT
UID:event
LOCATION:Avery Hall\, Wood Auditorium
DTSTAMP:20210221T33400Z
DTSTART;TZID=America/New_York:20181018T180000
DTEND;TZID=America/New_York:
SUMMARY:Black-Palestinian Solidarity 1968 / 2018
DESCRIPTION:The late 1960s saw the emergence of a militant Black-Palesti
 nian solidarity\, epitomized by the meeting between members o
 f the Black Panthers and members of the Palestinian Liberat
 ion Movement at the Pan-African Cultural Festival in Algiers
  in 1969. Fueled by anti-imperialism\, they saw their strugg
 les as revolutionary\, militant\, and internationalist. Fifty 
 years on\, new forms of solidarity and new politics on the g
 round have emerged. How should we understand these solidarit
 ies across different historical moments\, sites\, and racial 
 formations?
END:VEVENT
END:VCALENDAR