BEGIN:VCALENDAR
VERSION:2.0
PRODID:-//ExpressionEngine Easy iCalendar plugin//NONSGML v1.1.1//EN
BEGIN:VEVENT
UID:event
LOCATION:Lenfest Center for the Arts
DTSTAMP:20210221T32800Z
DTSTART;TZID=America/New_York:20181019T170000
DTEND;TZID=America/New_York:20181020T180000
SUMMARY:IMAGINING EVERYDAY LIFE: ENGAGEMENTS WITH VERNACULAR PHOTOGR
 APHY
DESCRIPTION:What is vernacular photography? Generally defined as the mos
 t ordinary or utilitarian form of imagery\, vernacular photog
 raphy ranges from early ethnographic records to family photo
  albums to today’s social media. The aim of this symposium
  is to reconsider the uses and meanings of these frequently 
 overlooked photographic practices\, ones that often reinforce
  conventions of social identity but can also become crucial 
 sites of creative resistance and transformation. Speakers fr
 om a wide range of academic disciplines will consider vernac
 ular representations of everyday life\, offering new ways to 
 think about photography in relation to our political communi
 ties\, cultural identities\, social agency\, and daily personal
  rituals.
END:VEVENT
END:VCALENDAR