BEGIN:VCALENDAR
VERSION:2.0
PRODID:-//ExpressionEngine Easy iCalendar plugin//NONSGML v1.1.1//EN
BEGIN:VEVENT
UID:event
LOCATION:The Heyman Center\, Second Floor Common Room
DTSTAMP:20210221T33800Z
DTSTART;TZID=America/New_York:20111201T181500
DTEND;TZID=America/New_York:
SUMMARY:The Spontaneous Particulars of Sound
DESCRIPTION:Poet Susan Howe is the recipient of the 2011 Bollingen Prize
  in American Poetry.  She will deliver the Lionel Trilling 
 Seminar on "The Spontaneous Particulars of Sound."
END:VEVENT
END:VCALENDAR