BEGIN:VCALENDAR
VERSION:2.0
PRODID:-//ExpressionEngine Easy iCalendar plugin//NONSGML v1.1.1//EN
BEGIN:VEVENT
UID:event
LOCATION:The Heyman Center\, Second Floor Common Room
DTSTAMP:20210221T33100Z
DTSTART;TZID=America/New_York:20181112T181500
DTEND;TZID=America/New_York:
SUMMARY:Science and Capitalism: Entangled Histories
DESCRIPTION:This Roundtable invites historians Marwa Elshakry\, Michael 
 Gordin\, Malgosia Mazurek\, and Carl Wennerlind to discuss
 Osiris 33\, a special issue on “Science and Capitalism: E
 ntangled Histories\,” with the co-editors of the volume\, W
 ill Deringer\, Eugenia Lean\, and Lukas Rieppel.
END:VEVENT
END:VCALENDAR