BEGIN:VCALENDAR
VERSION:2.0
PRODID:-//ExpressionEngine Easy iCalendar plugin//NONSGML v1.1.1//EN
BEGIN:VEVENT
UID:event
LOCATION:\, Lenfest Center for the Arts
DTSTAMP:20210221T32600Z
DTSTART;TZID=America/New_York:20181206T183000
DTEND;TZID=America/New_York:
SUMMARY:Rafiki
DESCRIPTION:Kena helps her father John Mwaura run a small convenience st
 ore in Nairobi as he campaigns for a local election. Kena li
 ves with her mother\, who isn't really on speaking terms with
  John. Kena starts flirting with Ziki\, a neighbourhood girl 
 with colourful hair\, who also happens to be the daughter of 
 Peter Okemi\, John's political rival
END:VEVENT
END:VCALENDAR