BEGIN:VCALENDAR
VERSION:2.0
PRODID:-//ExpressionEngine Easy iCalendar plugin//NONSGML v1.1.1//EN
BEGIN:VEVENT
UID:event
LOCATION:The Heyman Center\, Second Floor Common Room
DTSTAMP:20210221T33300Z
DTSTART;TZID=America/New_York:20190228T181500
DTEND;TZID=America/New_York:
SUMMARY:Celebrating Recent Work by Pier Mattia Tommasino and Konstan
 tina Zanou
DESCRIPTION:New Books in the Arts & Sciences: Celebrating Recent Work by
  Pier Mattia Tommasino and Konstantina Zanou
END:VEVENT
END:VCALENDAR