BEGIN:VCALENDAR
VERSION:2.0
PRODID:-//ExpressionEngine Easy iCalendar plugin//NONSGML v1.1.1//EN
BEGIN:VEVENT
UID:event
LOCATION:Schermerhorn Hall\, Room 612
DTSTAMP:20210221T32800Z
DTSTART;TZID=America/New_York:20190329T93000
DTEND;TZID=America/New_York:20190330T000000
SUMMARY:Ovidius Philosophus
DESCRIPTION:An international conference on philosophy in Ovid and Ovid a
 s a philosopher.
END:VEVENT
END:VCALENDAR