BEGIN:VCALENDAR
VERSION:2.0
PRODID:-//ExpressionEngine Easy iCalendar plugin//NONSGML v1.1.1//EN
BEGIN:VEVENT
UID:event
LOCATION:The Schapiro Center\, Davis Auditorium
DTSTAMP:20210221T33400Z
DTSTART;TZID=America/New_York:20111207T171500
DTEND;TZID=America/New_York:
SUMMARY:Literature\, Exile\, and the “Arab Spring”
DESCRIPTION:Booker short-listed author Hisham Matar will speak on "Liter
 ature\, Exile\, and the 'Arab Spring'" as part of the Heyman C
 enter's Writing Lives Series. Bashir Abu-Manneh of Barnard C
 ollege will serve as interlocutor.
END:VEVENT
END:VCALENDAR