BEGIN:VCALENDAR
VERSION:2.0
PRODID:-//ExpressionEngine Easy iCalendar plugin//NONSGML v1.1.1//EN
BEGIN:VEVENT
UID:event
LOCATION:The Heyman Center\, Second Floor Common Room
DTSTAMP:20210221T33500Z
DTSTART;TZID=America/New_York:20181205T161500
DTEND;TZID=America/New_York:
SUMMARY:Celebrating Recent Work by Brinkley Messick
DESCRIPTION:New Books in the Arts & Sciences:\n\nCelebrating Recent Work 
 by Brinkley Messick
END:VEVENT
END:VCALENDAR